BEGIN:VCALENDAR
VERSION:2.0
PRODID:-//AudioTheme 2.3.8
BEGIN:VEVENT
UID:https://www.kelleysuttenfield.com/?post_type=audiotheme_gig&#038;p=1682
URL:https://www.kelleysuttenfield.com/shows/sneak-preview-of-new-album/
DTSTART;TZID=GMT:20190517T230000
SUMMARY:Sneak Preview of New Album!
DESCRIPTION:Sneak Preview of New Album!
LOCATION:The Bitter End\, 147 Bleecker Street\, btwn Thompson and LaGuardia \, New York\, NY\, United States\, 10012
END:VEVENT
END:VCALENDAR
