BEGIN:VCALENDAR
VERSION:2.0
PRODID:-//AudioTheme 2.3.8
BEGIN:VEVENT
UID:https://www.kelleysuttenfield.com/?post_type=audiotheme_gig&#038;p=1538
URL:https://www.kelleysuttenfield.com/shows/songs-for-voice-cello-and-guitar/
DTSTART;TZID=GMT:20190310T030000
SUMMARY:Songs for Voice, Cello, and Guitar
DESCRIPTION:Songs for Voice\, Cello\, and Guitar
LOCATION:Bar Thalia at Symphony Space\, 2537 Broadway (at 95th St) \, New York\, NY\, USA\, 10025
END:VEVENT
END:VCALENDAR
