BEGIN:VCALENDAR
VERSION:2.0
PRODID:-//AudioTheme 2.3.8
BEGIN:VEVENT
UID:https://www.kelleysuttenfield.com/?post_type=audiotheme_gig&#038;p=641
URL:https://www.kelleysuttenfield.com/shows/spring-time-swing-time-string-time-concert/
DTSTART;TZID=GMT:20100502T000000
SUMMARY:"Spring Time, Swing Time, String Time" Concert
DESCRIPTION:"Spring Time\, Swing Time\, String Time" Concert
LOCATION:Helene Fortunoff Theater\, Hempstead\, NY\, USA\, 11549
END:VEVENT
END:VCALENDAR
