BEGIN:VCALENDAR
VERSION:2.0
PRODID:-//AudioTheme 2.3.8
BEGIN:VEVENT
UID:urn:uuid:7979de4a-99fb-491e-9b18-1132520f33a4
URL:https://www.kelleysuttenfield.com/shows/sunday-roast-jazz/
DTSTART;TZID=GMT:20260301T160000
SUMMARY:Jazz Quartet
DESCRIPTION:Sunday Roast Jazz
LOCATION:The Druids Head\, 3 Market Place\, Kingston Upon Thames\, Kingston\, Surrey\,\, England\, England\, KT1 1JT
END:VEVENT
END:VCALENDAR
