BEGIN:VCALENDAR
VERSION:2.0
PRODID:-//AudioTheme 2.3.8
BEGIN:VEVENT
UID:https://www.kelleysuttenfield.com/?post_type=audiotheme_gig&#038;p=1001
URL:https://www.kelleysuttenfield.com/shows/the-amber-ball/
DTSTART;TZID=GMT:20160430T230000
SUMMARY:The Amber Ball
DESCRIPTION:Featured Performer at The Amber Ball  Annual Gala of The Kosciusko Foundation
LOCATION:Waldorf Astoria\, 301 Park Avenue\, New York\, NY\, USA\, 10022
END:VEVENT
END:VCALENDAR
