BEGIN:VCALENDAR
VERSION:2.0
PRODID:-//AudioTheme 2.3.8
BEGIN:VEVENT
UID:https://www.kelleysuttenfield.com/?post_type=audiotheme_gig&#038;p=610
URL:https://www.kelleysuttenfield.com/shows/the-great-american-songbook-with-the-ny-all-stars-howard-alden-harry-allen-lou-caputo-and-friends/
DTSTART;TZID=GMT:20110124T203000
SUMMARY:The Great American Songbook with the NY All-Stars: Howard Alden, Harry Allen, Lou Caputo, and Friends
DESCRIPTION:The Great American Songbook with the NY All-Stars: Howard Alden\, Harry Allen\, Lou Caputo\, and friends
LOCATION:Ronnie Scott's\, 47 Frith Street\, Soho\, London\, England\, United Kingdom\, W1D 4Ht
END:VEVENT
END:VCALENDAR
