BEGIN:VCALENDAR
VERSION:2.0
PRODID:-//AudioTheme 2.3.8
BEGIN:VEVENT
UID:https://www.kelleysuttenfield.com/?post_type=audiotheme_gig&#038;p=1264
URL:https://www.kelleysuttenfield.com/shows/valentines-day-concert/
DTSTART;TZID=GMT:20180211T200000
SUMMARY:Valentine's Day Concert
DESCRIPTION:Valentine's Day Concert
LOCATION:An die Musik LIVE!\, 409 North Charles Street Second Floor \, Baltimore\, MD\, 21201 
END:VEVENT
END:VCALENDAR
