BEGIN:VCALENDAR
VERSION:2.0
PRODID:-//AudioTheme 2.3.8
BEGIN:VEVENT
UID:https://www.kelleysuttenfield.com/?post_type=audiotheme_gig&#038;p=1190
URL:https://www.kelleysuttenfield.com/shows/vintage-jazz-and-western-swing-3/
DTSTART;TZID=GMT:20170413T013000
SUMMARY:Vintage jazz and western swing
DESCRIPTION:Jazz and country
LOCATION:The Rum House\, Hotel Edison\, 228 W 47th St\, New York\, NY\, 10036
END:VEVENT
END:VCALENDAR
