BEGIN:VCALENDAR
VERSION:2.0
PRODID:-//AudioTheme 2.3.8
BEGIN:VEVENT
UID:https://www.kelleysuttenfield.com/?post_type=audiotheme_gig&#038;p=1681
URL:https://www.kelleysuttenfield.com/shows/vocal-jazz-jam-anniversary/
DTSTART;TZID=GMT:20190407T230000
SUMMARY:Vocal Jazz Jam Anniversary
DESCRIPTION:3rd Anniversary of Jocelyn Medina's Vocal Jazz Jam
LOCATION:Spoonfed NYC\, 331 W 51st Street\, New York\, NY\, United States\, 10019
END:VEVENT
END:VCALENDAR
