BEGIN:VCALENDAR
VERSION:2.0
PRODID:-//AudioTheme 2.3.8
BEGIN:VEVENT
UID:https://www.kelleysuttenfield.com/?post_type=audiotheme_gig&#038;p=655
URL:https://www.kelleysuttenfield.com/shows/voices-for-a-cause-benefit-for-nowsa-national-organization-for-womens-safety-awareness/
DTSTART;TZID=GMT:20101114T010000
SUMMARY:"Voices for A Cause" Benefit for NOWSA (National Organization for Women's Safety Awareness)
DESCRIPTION:"Voices for A Cause" Benefit for NOWSA (National Organization for Women's Safety Awareness)
LOCATION:Helene Fortunoff Theater\, Hempstead\, NY\, USA\, 11549
END:VEVENT
END:VCALENDAR
