BEGIN:VCALENDAR
VERSION:2.0
PRODID:-//AudioTheme 2.3.8
BEGIN:VEVENT
UID:https://www.kelleysuttenfield.com/?post_type=audiotheme_gig&#038;p=1546
URL:https://www.kelleysuttenfield.com/shows/wintergarden-the-secret-city-winter-solstice-celebration/
DTSTART;TZID=GMT:20181223T000000
SUMMARY:WINTERGARDEN: The Secret City Winter Solstice Celebration
DESCRIPTION:WINTERGARDEN: The Secret City Winter Solstice Celebration
LOCATION:Judson Memorial Church\, 55 Washington Square South  \, New York\, NY\, 10012
END:VEVENT
END:VCALENDAR
