BEGIN:VCALENDAR
VERSION:2.0
PRODID:-//AudioTheme 2.3.8
BEGIN:VEVENT
UID:https://www.kelleysuttenfield.com/?post_type=audiotheme_gig&#038;p=614
URL:https://www.kelleysuttenfield.com/shows/your-hit-parade-celebrating-the-music-of-the-1930s-in-honor-of-hofstras-75th-anniversary/
DTSTART;TZID=GMT:20110515T000000
SUMMARY:Your Hit Parade: Celebrating the music of the 1930s in honor of Hofstra's 75th anniversary
DESCRIPTION:Your Hit Parade: Celebrating the music of the 1930s in honor of Hofstra's 75th anniversary
LOCATION:John Cranford Adams Playhouse\, Hempstead\, NY\, USA\, 11549
END:VEVENT
END:VCALENDAR
